BEGIN:VCALENDAR
VERSION:2.0
PRODID:-//Alain LeRoy Locke College Preparatory Academy - ECPv6.15.5//NONSGML v1.0//EN
CALSCALE:GREGORIAN
METHOD:PUBLISH
X-WR-CALNAME:Alain LeRoy Locke College Preparatory Academy
X-ORIGINAL-URL:https://greendot.org/locke
X-WR-CALDESC:Events for Alain LeRoy Locke College Preparatory Academy
REFRESH-INTERVAL;VALUE=DURATION:PT1H
X-Robots-Tag:noindex
X-PUBLISHED-TTL:PT1H
BEGIN:VTIMEZONE
TZID:UTC
BEGIN:STANDARD
TZOFFSETFROM:+0000
TZOFFSETTO:+0000
TZNAME:UTC
DTSTART:20240101T000000
END:STANDARD
END:VTIMEZONE
BEGIN:VEVENT
DTSTART;TZID=UTC:20241031T090000
DTEND;TZID=UTC:20241031T110000
DTSTAMP:20260421T134818
CREATED:20241011T165605Z
LAST-MODIFIED:20241022T183338Z
UID:2828-1730365200-1730372400@greendot.org
SUMMARY:Parenting Classes October 31st
DESCRIPTION:
URL:https://greendot.org/locke/events/parenting-classes-october-31st/
LOCATION:Alain LeRoy Locke College Preparatory Academy\, 325 E. 111th St.\, Los Angeles\, CA\, 90061\, United States
END:VEVENT
END:VCALENDAR