BEGIN:VCALENDAR
VERSION:2.0
PRODID:-//Alain LeRoy Locke College Preparatory Academy - ECPv6.15.5//NONSGML v1.0//EN
CALSCALE:GREGORIAN
METHOD:PUBLISH
X-WR-CALNAME:Alain LeRoy Locke College Preparatory Academy
X-ORIGINAL-URL:https://greendot.org/locke/es/
X-WR-CALDESC:Eventos para Alain LeRoy Locke College Preparatory Academy
REFRESH-INTERVAL;VALUE=DURATION:PT1H
X-Robots-Tag:noindex
X-PUBLISHED-TTL:PT1H
BEGIN:VTIMEZONE
TZID:UTC
BEGIN:STANDARD
TZOFFSETFROM:+0000
TZOFFSETTO:+0000
TZNAME:UTC
DTSTART:20240101T000000
END:STANDARD
END:VTIMEZONE
BEGIN:VEVENT
DTSTART;VALUE=DATE:20240812
DTEND;VALUE=DATE:20240813
DTSTAMP:20260422T123343
CREATED:20240703T185437Z
LAST-MODIFIED:20240703T185437Z
UID:2192-1723420800-1723507199@greendot.org
SUMMARY:Primer día de clase
DESCRIPTION:El primer día de clase es el 12 de agosto de 2024. ¡Bienvenido de nuevo!
URL:https://greendot.org/locke/es/events/primer-dia-de-clase/
LOCATION:Academia Preparatoria Universitaria Alain LeRoy Locke\, 325 E. Calle 111\, Los Angeles\, CA\, 90061\, United States
END:VEVENT
END:VCALENDAR