BEGIN:VCALENDAR
VERSION:2.0
PRODID:-//Alain LeRoy Locke College Preparatory Academy - ECPv6.15.5//NONSGML v1.0//EN
CALSCALE:GREGORIAN
METHOD:PUBLISH
X-WR-CALNAME:Alain LeRoy Locke College Preparatory Academy
X-ORIGINAL-URL:https://greendot.org/locke/es/
X-WR-CALDESC:Eventos para Alain LeRoy Locke College Preparatory Academy
REFRESH-INTERVAL;VALUE=DURATION:PT1H
X-Robots-Tag:noindex
X-PUBLISHED-TTL:PT1H
BEGIN:VTIMEZONE
TZID:UTC
BEGIN:STANDARD
TZOFFSETFROM:+0000
TZOFFSETTO:+0000
TZNAME:UTC
DTSTART:20240101T000000
END:STANDARD
END:VTIMEZONE
BEGIN:VEVENT
DTSTART;TZID=UTC:20241031T090000
DTEND;TZID=UTC:20241031T110000
DTSTAMP:20260421T140004
CREATED:20241011T165605Z
LAST-MODIFIED:20260323T185837Z
UID:3054-1730365200-1730372400@greendot.org
SUMMARY:Clases para padres 31 de octubre
DESCRIPTION:
URL:https://greendot.org/locke/es/events/clases-para-padres-31-de-octubre/
LOCATION:Academia Preparatoria Universitaria Alain LeRoy Locke\, 325 E. Calle 111\, Los Angeles\, CA\, 90061\, United States
END:VEVENT
END:VCALENDAR