BEGIN:VCALENDAR
VERSION:2.0
PRODID:-//Alain LeRoy Locke College Preparatory Academy - ECPv6.15.5//NONSGML v1.0//EN
CALSCALE:GREGORIAN
METHOD:PUBLISH
X-WR-CALNAME:Alain LeRoy Locke College Preparatory Academy
X-ORIGINAL-URL:https://greendot.org/locke/es/
X-WR-CALDESC:Eventos para Alain LeRoy Locke College Preparatory Academy
REFRESH-INTERVAL;VALUE=DURATION:PT1H
X-Robots-Tag:noindex
X-PUBLISHED-TTL:PT1H
BEGIN:VTIMEZONE
TZID:UTC
BEGIN:STANDARD
TZOFFSETFROM:+0000
TZOFFSETTO:+0000
TZNAME:UTC
DTSTART:20240101T000000
END:STANDARD
END:VTIMEZONE
BEGIN:VEVENT
DTSTART;TZID=UTC:20241017T090000
DTEND;TZID=UTC:20241017T110000
DTSTAMP:20260419T134106
CREATED:20241011T165514Z
LAST-MODIFIED:20260323T185835Z
UID:3053-1729155600-1729162800@greendot.org
SUMMARY:Clases para padres 17 de octubre
DESCRIPTION:Clases de Desarrollo del Idioma Inglés para Adultos (ELD)\nÚnete a nosotros todos los martes de 9:00 a 11:00 en Locke para las clases de ELD para adultos. Estas sesiones están diseñadas para ayudar a los estudiantes adultos a mejorar sus conocimientos de inglés en un entorno de apoyo y participación. ¡Todos son bienvenidos!
URL:https://greendot.org/locke/es/events/clases-para-padres-17-de-octubre/
LOCATION:Academia Preparatoria Universitaria Alain LeRoy Locke\, 325 E. Calle 111\, Los Angeles\, CA\, 90061\, United States
END:VEVENT
END:VCALENDAR